BEGIN:VCALENDAR
VERSION:2.0
PRODID:-//jEvents 2.0 for Joomla//EN
CALSCALE:GREGORIAN
METHOD:PUBLISH
BEGIN:VTIMEZONE
TZID:Europe/Berlin
END:VTIMEZONE
BEGIN:VEVENT
UID:113332d3e909611c1700bd94b0b8431b
CATEGORIES:Termine
CREATED:20251125T132920
SUMMARY:Mehrtagesausflug 2026 Blumenriviera - Ligurien - Côte d`Azur - AUSGEBUCHT
LOCATION:Dreiländereck
DESCRIPTION:Mehrtagesausflug 2026 Blumenriviera - Ligurien - Côte d`Azur\nUnser Mehrtag
 esausflug 2026 führt uns an die Blumenriviera - Ligurien - Côte d`Azur\nTer
 min: Mittwoch, 15. April bis Sontag 19. April 2026\n\nIn den folgenden Anla
 gen finden Sie das Programm (images/1_logl/1_bilder_ogv/aktuelles/Flyer_Blu
 menriviera.pdf) und die <a href="images/1_logl/1_bilder_ogv/aktuelles/Ansch
 reiben_Blumenriviera.pdf" target="_blank">Anmeldeinformationen</a>.\n\nDer 
 Ausflug ist ausgebucht. Eine Anmeldung ist nicht mehr möglich. Sollte bei I
 hnen jedoch eine kurzfristige Teilnahme möglich sein, können wir Sie gerne 
 auf die Warteliste schreiben. \n\nAbfahrt  ist am Mittwoch, dem 15. April u
 m 5:30 Uhr an den Bushaltestellen beim Hans-Grüninger-Gymnasium in der Schw
 ieberdinger Straße.\n\nDie Reise wird von „Müller Reisen, Massenbachhausen“
  durchgeführt.\n
X-ALT-DESC;FMTTYPE=text/html:<p><span style="color: #145f48; font-size: 14px; font-weight: bold;"><span 
 style="color: #000000; font-weight: normal; font-size: 14px;"><span style="
 color: #145f48; font-weight: bold; font-size: 14px;">Mehrtagesausflug 2026&
 nbsp;Blumenriviera - Ligurien - Côte d`Azur</span><br />Unser Mehrtagesausf
 lug 2026 führt uns an die&nbsp;Blumenriviera - Ligurien - Côte d`Azur<br />
 <strong>Termin: Mittwoch, 15. April bis Sontag 19. April 2026<br /><br /></
 strong></span></span><span style="color: #145f48; font-size: 14px;"><span s
 tyle="color: #000000; font-weight: normal; font-size: 14px;">In den folgend
 en Anlagen finden Sie das&nbsp;</span></span><span style="color: #145f48; f
 ont-size: 14px;"><span style="color: #000000; font-weight: normal; font-siz
 e: 14px;"><span style="color: #000000; font-weight: normal; font-size: 14px
 ;"><a href="images/1_logl/1_bilder_ogv/aktuelles/Flyer_Blumenriviera.pdf" t
 arget="_blank"><strong>Programm</strong></a> und die <a href="images/1_logl
 /1_bilder_ogv/aktuelles/Anschreiben_Blumenriviera.pdf" target="_blank"><str
 ong>Anmeldeinformationen</strong></a>.<br /><br /></span></span></span><spa
 n style="color: #145f48; font-size: 14px; font-weight: bold;"><span style="
 color: #000000; font-weight: normal; font-size: 14px;"><strong>Der Ausflug 
 ist ausgebucht. Eine Anmeldung ist nicht mehr möglich. Sollte bei Ihnen jed
 och eine kurzfristige Teilnahme möglich sein, können wir Sie gerne auf die 
 Warteliste schreiben.&nbsp;</strong><br /></span></span><span style="color:
  #000000; font-weight: normal; font-size: 14px;"><br /><span style="color: 
 #000000; font-weight: normal; font-size: 14px;"><strong><strong><span style
 ="color: #000000; font-weight: bold; font-size: 14px;">Abfahrt&nbsp;</span>
 &nbsp;</strong></strong>ist am&nbsp;<strong><strong><span style="color: #00
 0000; font-weight: bold; font-size: 14px;">Mittwoch, dem 15. April</span>&n
 bsp;</strong></strong>um&nbsp;<strong><strong><span style="color: #000000; 
 font-weight: bold; font-size: 14px;">5:30 Uhr an den Bushaltestellen beim&n
 bsp;</span></strong></strong><strong><strong><span style="color: #000000; f
 ont-weight: bold; font-size: 14px;">Hans-Grüninger-Gymnasium</span>&nbsp;</
 strong></strong>in der Schwieberdinger Straße.<br /></span></span><span sty
 le="color: #000000; font-weight: normal; font-size: 14px;"><br /><span styl
 e="color: #000000; font-weight: normal; font-size: 14px;">Die Reise wird vo
 n „Müller Reisen, Massenbachhausen“ durchgeführt.</span></span></p>
DTSTAMP:20260422T091639
DTSTART;TZID=Europe/Berlin;VALUE=DATE:20260416
DTEND;TZID=Europe/Berlin;VALUE=DATE:20260417
SEQUENCE:0
TRANSP:OPAQUE
END:VEVENT
END:VCALENDAR