BEGIN:VCALENDAR
VERSION:2.0
PRODID:-//jEvents 2.0 for Joomla//EN
CALSCALE:GREGORIAN
METHOD:PUBLISH
BEGIN:VTIMEZONE
TZID:Europe/Berlin
END:VTIMEZONE
BEGIN:VEVENT
UID:88a7b46aef1e16709483a6c3c1e81214
CATEGORIES:Termine
CREATED:20251125T132839
SUMMARY:Öffnen der Wasserleitungen
LOCATION:Gartenwasserleitungen Markgröningen
DESCRIPTION:Öffnen der Wasserleitungen\nIn der 13. Kalenderwoche zwischen 25. und 28. M
 ärz 2026 werden die Wasserleitungen wieder geöffnet.\nAchten Sie bitte dara
 uf dass Ihre Anschlüsse in Ordnung und alle Hähnen bis dahin geschlossen si
 nd. Wir möchten nochmals darauf hinweisen dass idealerweise der Abstellhahn
  zwischen Hauptleitung und Wasseruhr zugedreht wird. Die Schächte, Wasseruh
 ren und Wasserleitungen werden von uns nicht mehr überprüft, deshalb ist de
 r Grundstückbesitzer / Pächter für einen eventuellen Wasserverlust selbst v
 erantwortlich. Diesbezüglich bitten wir Sie auch Ihr Leitungsnetz auf dem G
 rundstück zu überprüfen. Auch eine geringe Undichtigkeit kann auf Dauer zu 
 einem enormen Verbrauch führen. \nFalls bei Ihnen kein Wasser kommt, dann f
 ragen Sie bitte erst in der 14. Kalenderwoche nach. Witterungsbedingt kann 
 es zu Verschiebungen kommen, wovon wir im Moment aber nicht ausgehen. \n
X-ALT-DESC;FMTTYPE=text/html:<p><strong><span style="color: #145f48; font-weight: bold; font-size: 14px;
 ">Öffnen der Wasserleitungen</span></strong><br /><span style="color: #0000
 00; font-weight: normal; font-size: 14px;">In der 13. Kalenderwoche zwische
 n <strong>25. und 28. März 2026</strong>&nbsp;werden die Wasserleitungen wi
 eder geöffnet.<br />Achten Sie bitte darauf dass Ihre Anschlüsse in Ordnung
  und alle Hähnen bis dahin geschlossen sind. Wir möchten nochmals darauf hi
 nweisen dass idealerweise der Abstellhahn zwischen Hauptleitung und Wasseru
 hr zugedreht wird.&nbsp;Die Schächte, Wasseruhren und Wasserleitungen werde
 n von uns nicht mehr überprüft, deshalb ist der Grundstückbesitzer / Pächte
 r für einen<strong>&nbsp;eventuellen Wasserverlust selbst verantwortlich</s
 trong>. Diesbezüglich bitten wir Sie auch Ihr Leitungsnetz auf dem Grundstü
 ck zu überprüfen. Auch eine geringe Undichtigkeit kann auf Dauer zu einem e
 normen Verbrauch führen.&nbsp;<br />Falls bei Ihnen kein Wasser kommt, dann
  fragen Sie bitte erst in der 14. Kalenderwoche nach. Witterungsbedingt kan
 n es zu Verschiebungen kommen, wovon wir im Moment aber nicht ausgehen.&nbs
 p;</span></p>
DTSTAMP:20260422T171220
DTSTART;TZID=Europe/Berlin;VALUE=DATE:20260326
DTEND;TZID=Europe/Berlin;VALUE=DATE:20260327
SEQUENCE:0
TRANSP:OPAQUE
END:VEVENT
END:VCALENDAR