BEGIN:VCALENDAR
VERSION:2.0
PRODID:-//jEvents 2.0 for Joomla//EN
CALSCALE:GREGORIAN
METHOD:PUBLISH
BEGIN:VTIMEZONE
TZID:Europe/Berlin
END:VTIMEZONE
BEGIN:VEVENT
UID:8054ca2daa843b5486396365cab29f3d
CATEGORIES:Termine
CREATED:20260121T184512
SUMMARY:Fortbildung Sachkunde Pflanzenschutz
LOCATION:Untere Kelter\, Schlossgasse 21\, 71706 Markgröningen
DESCRIPTION:Fortbildung Sachkunde Pflanzenschutz am 24. April 2026\n\nTermin: Freitag, 
 24. April 2026 um 17:00 Uhr\nOrt: Untere Kelter, Markgröningen\nReferent: L
 othar Neumann\nKosten: 15,- € für Mitglieder des OWG Markgröningen oder der
  Lembergerland-Kellerei; 20,- € für Nichtmitglieder\n\nDas Angebot richtet 
 sich an Inhaber eines Sachkundenachweises, die im Zeitraum 01.01.2025 bis 3
 1.12.2027 noch keine Fortbildung nachweisen können. Der Sachkundenachweis v
 erliert dann seine Gültigkeit, wenn er nicht bis spätestens 31.12.2027 durc
 h eine vierstündige Fortbildung erneuert wird. Die Veranstaltung dauert vie
 r Stunden. Im Preis enthalten ist ein Vesper mit Getränk.\n\nEine Anmeldung
  ist erforderlich bis zum 10. April 2026: Zur Anmeldung rufen Sie bitte fol
 genden Link auf: Anmeldung Sachkunde Pflanzenschutz.  (https://forms.gle/1T
 mGxABLcV7p5cbs8)Des weiteren überweisen Sie bitte den Unkostenbeitrag bis s
 pätestens 10.04.2026 auf das Konto des Obst-, Wein- u. Gartenbauverein Mark
 gröningen e.V. mit der IBAN DE06 6049 1430 0010 1720 09 bei der VR-Bank Lud
 wigsburg. Die Anmeldung ist abgeschlossen, sobald uns der ausgefüllte Frage
 bogen (siehe Link) vorliegt und der Unkostenbeitrag auf dem Vereinskonto ei
 ngegangen ist. \n\nWeitere Fragen beantworten wir per Mail Diese E-Mail-Adr
 esse ist vor Spambots geschützt! Zur Anzeige muss JavaScript eingeschaltet 
 sein!
				document.getElementById('cloak791e8801b01e45c4afe8e8f7baaefcb6').
 innerHTML = '';
				var prefix = '&#109;a' + 'i&#108;' + '&#116;o';
				var
  path = 'hr' + 'ef' + '=';
				var addy791e8801b01e45c4afe8e8f7baaefcb6 = '
 &#105;nf&#111;' + '&#64;';
				addy791e8801b01e45c4afe8e8f7baaefcb6 = addy7
 91e8801b01e45c4afe8e8f7baaefcb6 + '&#111;wg-m&#97;rkgr&#111;&#101;n&#105;ng
 &#101;n' + '&#46;' + 'd&#101;';
				var addy_text791e8801b01e45c4afe8e8f7ba
 aefcb6 = '&#105;nf&#111;' + '&#64;' + '&#111;wg-m&#97;rkgr&#111;&#101;n&#10
 5;ng&#101;n' + '&#46;' + 'd&#101;';document.getElementById('cloak791e8801b0
 1e45c4afe8e8f7baaefcb6').innerHTML += '<a ' + path + '\'' + prefix + ':' + 
 addy791e8801b01e45c4afe8e8f7baaefcb6 + '\' target="_blank">'+addy_text791e8
 801b01e45c4afe8e8f7baaefcb6+'';
		 oder telefonisch unter 07145-8049647 (An
 rufbeantworter). \n\nHinweis: Ende April kann es in der Unteren Kelter noch
  frisch sein. Bitte bei der Kleiderwahl beachten. \n
X-ALT-DESC;FMTTYPE=text/html:<p><span style="color: #145f48; font-weight: bold; font-size: 14px;">Fortbi
 ldung Sachkunde Pflanzenschutz am 24. April 2026</span><br /><span style="c
 olor: #000000; font-weight: normal; font-size: 14px;"><strong><br />Termin:
 </strong> Freitag, 24. April 2026 um 17:00 Uhr<br /><strong>Ort:</strong> U
 ntere Kelter, Markgröningen<br /><strong>Referent:</strong> Lothar Neumann<
 br /><strong>Kosten:</strong> 15,- € für Mitglieder des OWG Markgröningen o
 der der Lembergerland-Kellerei; 20,- € für Nichtmitglieder<br /><br />Das A
 ngebot richtet sich an Inhaber eines Sachkundenachweises, die im Zeitraum 0
 1.01.2025 bis 31.12.2027 noch keine Fortbildung nachweisen können. Der Sach
 kundenachweis verliert dann seine Gültigkeit, wenn er nicht bis spätestens 
 31.12.2027 durch eine vierstündige Fortbildung erneuert wird. Die Veranstal
 tung dauert vier Stunden. Im Preis enthalten ist ein Vesper mit Getränk.<br
  /><br /><strong>Eine Anmeldung ist erforderlich bis zum 10. April 2026: </
 strong>Zur Anmeldung rufen Sie bitte folgenden Link auf:<a href="https://fo
 rms.gle/1TmGxABLcV7p5cbs8" target="_blank" rel="noopener"><strong> Anmeldun
 g Sachkunde Pflanzenschutz. </strong></a>Des weiteren überweisen Sie bitte 
 den Unkostenbeitrag bis spätestens <strong>10.04.2026</strong> auf das Kont
 o des&nbsp;<strong>Obst-, Wein- u. Gartenbauverein Markgröningen e.V. </str
 ong>mit der IBAN<strong>&nbsp;<strong>DE06 6049 1430 0010 1720 09 </strong>
 </strong>bei der<strong><strong> VR-Bank Ludwigsburg.&nbsp;</strong></stron
 g>Die Anmeldung ist abgeschlossen, sobald uns der ausgefüllte Fragebogen (s
 iehe Link) vorliegt und der Unkostenbeitrag auf dem Vereinskonto eingegange
 n ist.&nbsp;<br /><strong><br /></strong>Weitere Fragen beantworten wir per
  Mail&nbsp;<span id="cloak791e8801b01e45c4afe8e8f7baaefcb6">Diese E-Mail-Ad
 resse ist vor Spambots geschützt! Zur Anzeige muss JavaScript eingeschaltet
  sein!</span><script type='text/javascript'>
				document.getElementById('c
 loak791e8801b01e45c4afe8e8f7baaefcb6').innerHTML = '';
				var prefix = '&#
 109;a' + 'i&#108;' + '&#116;o';
				var path = 'hr' + 'ef' + '=';
				var a
 ddy791e8801b01e45c4afe8e8f7baaefcb6 = '&#105;nf&#111;' + '&#64;';
				addy7
 91e8801b01e45c4afe8e8f7baaefcb6 = addy791e8801b01e45c4afe8e8f7baaefcb6 + '&
 #111;wg-m&#97;rkgr&#111;&#101;n&#105;ng&#101;n' + '&#46;' + 'd&#101;';
				
 var addy_text791e8801b01e45c4afe8e8f7baaefcb6 = '&#105;nf&#111;' + '&#64;' 
 + '&#111;wg-m&#97;rkgr&#111;&#101;n&#105;ng&#101;n' + '&#46;' + 'd&#101;';d
 ocument.getElementById('cloak791e8801b01e45c4afe8e8f7baaefcb6').innerHTML +
 = '<a ' + path + '\'' + prefix + ':' + addy791e8801b01e45c4afe8e8f7baaefcb6
  + '\' target="_blank">'+addy_text791e8801b01e45c4afe8e8f7baaefcb6+'<\/a>';
 
		</script> oder telefonisch unter 07145-8049647 (Anrufbeantworter).&nbsp;
 <br /><br /><strong>Hinweis:</strong> Ende April kann es in der Unteren Kel
 ter noch frisch sein. Bitte bei der Kleiderwahl beachten.&nbsp;</span></p>
DTSTAMP:20260420T191157
DTSTART;TZID=Europe/Berlin:20260424T170000
DTEND;TZID=Europe/Berlin:20260424T213000
SEQUENCE:0
TRANSP:OPAQUE
END:VEVENT
END:VCALENDAR