BEGIN:VCALENDAR
VERSION:2.0
PRODID:-//jEvents 2.0 for Joomla//EN
CALSCALE:GREGORIAN
METHOD:PUBLISH
BEGIN:VTIMEZONE
TZID:Europe/Berlin
END:VTIMEZONE
BEGIN:VEVENT
UID:95618b86baa2737685f8d59de80757fe
CATEGORIES:Termine
CREATED:20251215T185609
SUMMARY:Baumschnittförderprogramm - Anmeldung
DESCRIPTION:<p><span style="color: #145f48; font-weight: bold; font-size: 14px;">Baumsc
 hnittförderprogramm - Neue Förderperiode - Anmeldung</span><br /><span styl
 e="color: #000000; font-weight: normal; font-size: 14px;">Das Regierungsprä
 sidium hat uns mitgeteilt, dass es für das Baumschnittförderprogramm eine N
 euauflage mit Beginn Winter 2026/2027 gibt. Der Förderzeitraum beträgt dies
 mal nur 2 Jahre. In diesem Zeitraum muss jeder gemeldete Baum einmal geschn
 itten werden. Die Förderhöhe beträgt 18,- Euro pro Baumschnitt. Förderfähig
  sind alle Hochstämme mit einer Stammhöhe von mindestens 1,40 Meter und die
  mindestens 3 Jahre alt sind. Nicht gefördert werden Walnussbäume und Brenn
 kirschen. Bitte auch die&nbsp;<a href="images/1_logl/1_bilder_ogv/aktuelles
 /Hinweise_Foerderung_Baumschnitt_Seite_1.pdf" target="_blank"><strong>Hinwe
 ise zur Sammelantragstellung </strong></a>beachten.</span><br />Alle bisher
 igen Teilnehmer werden vom OWG direkt angeschrieben.&nbsp;<br /><span style
 ="color: #000000; font-weight: normal; font-size: 14px;">Neue Teilnehmer bi
 tten wir die&nbsp;<a href="images/1_logl/1_bilder_ogv/aktuelles/Anlage_1_Ei
 nwilligung.pdf" target="_blank"><strong>Anlage 1 – Erklärung der Teilnehmen
 den</strong></a>&nbsp;und die <a href="images/1_logl/1_bilder_ogv/aktuelles
 /Anlage_2_Flurstuecksliste.pdf" target="_blank"><strong>Anlage 2 - Flurstüc
 ksliste</strong></a> auszufüllen.&nbsp; <span style="color: #000000; font-w
 eight: normal; font-size: 14px;"> In der <a href="images/1_logl/1_bilder_og
 v/aktuelles/Anleitung_Flurstueckinformationen.pdf" target="_blank">Anleitun
 g</a> ist beschrieben, wie man im Internet Informationen zum Flurstück find
 et.&nbsp;</span>Bei der Anlage 2 bitte angeben, wieviel Bäume in welcher Sc
 hnittperiode geschnitten werden sollen. <br />Da die Anlage 1 im Original u
 nterschrieben sein muss, bitten wir die beiden ausgefüllten Anlagen an <br 
 /></span><strong><span style="color: #000000; font-size: 14px;">Erwin Herrm
 ann<br /></span></strong><span style="color: #000000; font-weight: normal; 
 font-size: 14px;"><strong>Schreinergasse 6</strong><br /><strong>71706 Mark
 gröningen</strong> <br />zu schicken.<br /></span><br /><span style="color:
  #000000; font-weight: normal; font-size: 14px;"><strong>Anmeldefrist ist d
 er 20. April 2026.</strong></span></p>
DTSTAMP:20260420T190928
DTSTART;TZID=Europe/Berlin;VALUE=DATE:20260420
DTEND;TZID=Europe/Berlin;VALUE=DATE:20260421
SEQUENCE:0
TRANSP:OPAQUE
END:VEVENT
END:VCALENDAR