BEGIN:VCALENDAR
VERSION:2.0
PRODID:-//jEvents 2.0 for Joomla//EN
CALSCALE:GREGORIAN
METHOD:PUBLISH
BEGIN:VTIMEZONE
TZID:Europe/Berlin
END:VTIMEZONE
BEGIN:VEVENT
UID:9b2f71cef82cf70d16023b043472ddaa
CATEGORIES:Termine
CREATED:20251125T133853
SUMMARY:Marktplatzabend
LOCATION:Marktplatz Markgröningen
DESCRIPTION:Weitere Informationen zum Marktplatzabend finden Sie hier. (https://markgro
 eningen-aktiv.de/veranstaltungen/marktplatzabende/)\nWir sind mit dem Weinw
 agen mit auf dem Marktplatz vertreten.\n
X-ALT-DESC;FMTTYPE=text/html:<p><a href="https://markgroeningen-aktiv.de/veranstaltungen/marktplatzabend
 e/" target="_blank" rel="noopener">Weitere Informationen zum Marktplatzaben
 d finden Sie hier.</a><br />Wir sind mit dem Weinwagen mit auf dem Marktpla
 tz vertreten.</p>
DTSTAMP:20260422T060529
DTSTART;TZID=Europe/Berlin:20260521T173000
DTEND;TZID=Europe/Berlin:20260521T210000
SEQUENCE:0
TRANSP:OPAQUE
END:VEVENT
END:VCALENDAR