BEGIN:VCALENDAR
VERSION:2.0
PRODID:-//jEvents 2.0 for Joomla//EN
CALSCALE:GREGORIAN
METHOD:PUBLISH
BEGIN:VTIMEZONE
TZID:Europe/Berlin
END:VTIMEZONE
BEGIN:VEVENT
UID:0ad17ff6a43dbcf22d4677b67c17f1bd
CATEGORIES:Termine
CREATED:20251125T133759
SUMMARY:Festakt 100 Jahre OWG
LOCATION:Stadthalle\, Markgröningen
DESCRIPTION:<p><span style="color: #145f48; font-weight: bold; font-size: 14px;">100 Ja
 hre OWG - Anmeldung zum Festakt</span><br /><span style="color: #000000; fo
 nt-weight: normal; font-size: 14px;">Die Vorbereitungen für den Festakt zum
  100-jährigen Jubiläum des OWG sind in vollem Gange. Die Einladungen an die
  Gäste und Mitglieder wurden bereits verteilt. Bitte denken Sie daran, die 
 Rückmeldung bis zum 31. März 2026 abzugeben (<span id="cloakb3b6fdfe8e134e2
 3169e0bf761b1593c">Diese E-Mail-Adresse ist vor Spambots geschützt! Zur Anz
 eige muss JavaScript eingeschaltet sein!</span><script type='text/javascrip
 t'>
				document.getElementById('cloakb3b6fdfe8e134e23169e0bf761b1593c').in
 nerHTML = '';
				var prefix = '&#109;a' + 'i&#108;' + '&#116;o';
				var p
 ath = 'hr' + 'ef' + '=';
				var addyb3b6fdfe8e134e23169e0bf761b1593c = '10
 0J&#97;hr&#101;' + '&#64;';
				addyb3b6fdfe8e134e23169e0bf761b1593c = addy
 b3b6fdfe8e134e23169e0bf761b1593c + '&#111;wg-m&#97;rkgr&#111;&#101;n&#105;n
 g&#101;n' + '&#46;' + 'd&#101;';
				var addy_textb3b6fdfe8e134e23169e0bf76
 1b1593c = '100J&#97;hr&#101;' + '&#64;' + '&#111;wg-m&#97;rkgr&#111;&#101;n
 &#105;ng&#101;n' + '&#46;' + 'd&#101;';document.getElementById('cloakb3b6fd
 fe8e134e23169e0bf761b1593c').innerHTML += '<a ' + path + '\'' + prefix + ':
 ' + addyb3b6fdfe8e134e23169e0bf761b1593c + '\'>'+addy_textb3b6fdfe8e134e231
 69e0bf761b1593c+'<\/a>';
		</script> oder bei Gerhard Herrmann).<br /><br /
 >Weitere Informationen finden Sie in Kürze auch hier: <a href="100-jahre" t
 arget="_blank" rel="noopener">https://www.owg-markgroeningen.de/100-jahre</
 a><br /><br /></span></p>
DTSTAMP:20260422T025956
DTSTART;TZID=Europe/Berlin:20260509T180000
DTEND;TZID=Europe/Berlin:20260509T230000
SEQUENCE:0
TRANSP:OPAQUE
END:VEVENT
END:VCALENDAR