BEGIN:VCALENDAR
VERSION:2.0
PRODID:-//jEvents 2.0 for Joomla//EN
CALSCALE:GREGORIAN
METHOD:PUBLISH
BEGIN:VTIMEZONE
TZID:Europe/Berlin
BEGIN:STANDARD
DTSTART:20241027T020000
RDATE:20250330T030000
TZOFFSETFROM:+0200
TZOFFSETTO:+0100
TZNAME:Europe/Berlin CET
END:STANDARD
BEGIN:DAYLIGHT
DTSTART:20240509T100000
RDATE:20241027T020000
TZOFFSETFROM:+0100
TZOFFSETTO:+0200
TZNAME:Europe/Berlin CEST
END:DAYLIGHT
END:VTIMEZONE
BEGIN:VEVENT
UID:ea972a78f23ffd19cd1768cd6da051c0
CATEGORIES:Termine
CREATED:20241124T091308
SUMMARY:Betriebsbesichtigung und Führung bei Häussermann Stauden + Gehölze
LOCATION:Untere Kelter\, Markgröningen
DESCRIPTION:Betriebsbesichtigung und Führung bei Häussermann Stauden + Gehölze in Mögli
 ngen\n\nTermin: Samstag, 10 Mai 2025\nBeginn: 10:00 Uhr, Treffpunkt 15 min 
 vorher am Parkplatz auf dem Betriebsgelände in Möglingen\nOrt: Häussermann 
 Stauden+Gehölze GmbH, Im Kornfeld 4, 71696 Möglingen\nAnmeldung: Ab 25. Apr
 il bis spätestens 05. Mai 2025\n\nIn 2024 sorgte Martin Häußermann mit sein
 em Fachvortrag beim OWG für Begeisterung! Alle waren sich einig, daran soll
 te man anknüpfen und so ist die Vorfreude auf die bevorstehende Betriebsbes
 ichtigung mit ihm sehr groß. Da die Teilnehmerzahl begrenzt ist bitten wir 
 um Anmeldung unter  (mailto:Anmeldung@owg_markgroeningen.de)<a href="mailto
 :Anmeldung@owg_markgroeningen.de">Diese E-Mail-Adresse ist vor Spambots ges
 chützt! Zur Anzeige muss JavaScript eingeschaltet sein!
				document.getEle
 mentById('cloakb055c70e7933cce4a3a4d614de1a638d').innerHTML = '';
				var p
 refix = '&#109;a' + 'i&#108;' + '&#116;o';
				var path = 'hr' + 'ef' + '='
 ;
				var addyb055c70e7933cce4a3a4d614de1a638d = 'Anm&#101;ld&#117;ng' + '&
 #64;';
				addyb055c70e7933cce4a3a4d614de1a638d = addyb055c70e7933cce4a3a4d
 614de1a638d + '&#111;wg-m&#97;rkgr&#111;&#101;n&#105;ng&#101;n' + '&#46;' +
  'd&#101;';
				var addy_textb055c70e7933cce4a3a4d614de1a638d = 'Anm&#101;l
 d&#117;ng' + '&#64;' + '&#111;wg-m&#97;rkgr&#111;&#101;n&#105;ng&#101;n' + 
 '&#46;' + 'd&#101;';document.getElementById('cloakb055c70e7933cce4a3a4d614d
 e1a638d').innerHTML += '<a ' + path + '\'' + prefix + ':' + addyb055c70e793
 3cce4a3a4d614de1a638d + '\'>'+addy_textb055c70e7933cce4a3a4d614de1a638d+'';
 
		</a>. Bitte Anmeldefrist beachten. Die Anmeldungen werden nach ihrem Ein
 gang berücksichtigt. \n\nDie Anreise erfolgt in Eigenregie. Bitte 15 min vo
 r Beginn am Treffpunkt auf dem Parkplatz des Betriebsgeländes einfinden.\nD
 ie Dauer der Besichtigung beträgt etwa 2 h und wird zu Fuß absolviert. Bitt
 e auf entsprechendes Schuhwerk und Trittsicherheit achten! Wir freuen uns s
 chon auf den Mai. \n\nP.S.: In 2025 feiert Häussermann Stauden+Gehölze 99-j
 ähriges Jubiläum mit vielen eigenen Programmpunkten!\n
X-ALT-DESC;FMTTYPE=text/html:<p><span style="color: #145f48; font-weight: bold; font-size: 14px;">Betrie
 bsbesichtigung und Führung bei Häussermann Stauden + Gehölze in Möglingen</
 span><br /><br /><span style="color: #000000; font-weight: normal; font-siz
 e: 14px;">Termin: Samstag, <strong>10 Mai 2025</strong></span><br /><span s
 tyle="color: #000000; font-weight: normal; font-size: 14px;">Beginn: <stron
 g>10:00 Uhr</strong>, Treffpunkt&nbsp;15 min vorher am Parkplatz auf dem Be
 triebsgelände in Möglingen</span><br /><span style="color: #000000; font-we
 ight: normal; font-size: 14px;">Ort:&nbsp;Häussermann Stauden+Gehölze GmbH,
 &nbsp;Im Kornfeld 4, 71696 Möglingen</span><br /><strong><span style="color
 : #000000; font-size: 14px;">Anmeldung: Ab 25. April bis spätestens 05. Mai
  2025</span></strong><br /><span style="color: #000000; font-weight: normal
 ; font-size: 14px;"><br />In 2024 sorgte <strong>Martin Häußermann</strong>
  mit seinem Fachvortrag beim OWG für Begeisterung! Alle waren sich einig, d
 aran sollte man anknüpfen und so ist die Vorfreude auf die bevorstehende Be
 triebsbesichtigung mit ihm sehr groß. Da die Teilnehmerzahl begrenzt ist bi
 tten wir um Anmeldung unter&nbsp;<a href="mailto:Anmeldung@owg_markgroening
 en.de"></a><a href="mailto:Anmeldung@owg_markgroeningen.de"><span id="cloak
 b055c70e7933cce4a3a4d614de1a638d">Diese E-Mail-Adresse ist vor Spambots ges
 chützt! Zur Anzeige muss JavaScript eingeschaltet sein!</span><script type=
 'text/javascript'>
				document.getElementById('cloakb055c70e7933cce4a3a4d6
 14de1a638d').innerHTML = '';
				var prefix = '&#109;a' + 'i&#108;' + '&#11
 6;o';
				var path = 'hr' + 'ef' + '=';
				var addyb055c70e7933cce4a3a4d61
 4de1a638d = 'Anm&#101;ld&#117;ng' + '&#64;';
				addyb055c70e7933cce4a3a4d6
 14de1a638d = addyb055c70e7933cce4a3a4d614de1a638d + '&#111;wg-m&#97;rkgr&#1
 11;&#101;n&#105;ng&#101;n' + '&#46;' + 'd&#101;';
				var addy_textb055c70e
 7933cce4a3a4d614de1a638d = 'Anm&#101;ld&#117;ng' + '&#64;' + '&#111;wg-m&#9
 7;rkgr&#111;&#101;n&#105;ng&#101;n' + '&#46;' + 'd&#101;';document.getEleme
 ntById('cloakb055c70e7933cce4a3a4d614de1a638d').innerHTML += '<a ' + path +
  '\'' + prefix + ':' + addyb055c70e7933cce4a3a4d614de1a638d + '\'>'+addy_te
 xtb055c70e7933cce4a3a4d614de1a638d+'<\/a>';
		</script></a>. Bitte Anmeldef
 rist beachten. Die Anmeldungen werden nach ihrem Eingang berücksichtigt.&nb
 sp;<br /></span><br /><span style="color: #000000; font-weight: normal; fon
 t-size: 14px;">Die Anreise erfolgt in Eigenregie. Bitte 15 min vor Beginn a
 m Treffpunkt auf dem Parkplatz des Betriebsgeländes einfinden.</span><br />
 <span style="color: #000000; font-weight: normal; font-size: 14px;">Die Dau
 er der Besichtigung beträgt etwa 2 h und wird zu Fuß absolviert. Bitte auf 
 entsprechendes Schuhwerk und Trittsicherheit achten! Wir freuen uns schon a
 uf den Mai. <br /><br /></span><span style="color: #000000; font-weight: no
 rmal; font-size: 14px;">P.S.: In 2025 feiert&nbsp;<span style="color: #0000
 00; font-weight: normal; font-size: 14px;">Häussermann Stauden+Gehölze</spa
 n> 99-jähriges Jubiläum mit vielen eigenen Programmpunkten!</span></p>
DTSTAMP:20260422T193541
DTSTART;TZID=Europe/Berlin:20250510T100000
DTEND;TZID=Europe/Berlin:20250510T120000
SEQUENCE:0
TRANSP:OPAQUE
END:VEVENT
END:VCALENDAR