BEGIN:VCALENDAR
VERSION:2.0
PRODID:-//jEvents 2.0 for Joomla//EN
CALSCALE:GREGORIAN
METHOD:PUBLISH
BEGIN:VTIMEZONE
TZID:Europe/Berlin
BEGIN:STANDARD
DTSTART:20241027T020000
RDATE:20250330T030000
TZOFFSETFROM:+0200
TZOFFSETTO:+0100
TZNAME:Europe/Berlin CET
END:STANDARD
BEGIN:DAYLIGHT
DTSTART:20240514T173000
RDATE:20241027T020000
TZOFFSETFROM:+0100
TZOFFSETTO:+0200
TZNAME:Europe/Berlin CEST
END:DAYLIGHT
END:VTIMEZONE
BEGIN:VEVENT
UID:d9b91f44a9a00bae3bf26c017194389a
CATEGORIES:Termine
CREATED:20241124T090607
SUMMARY:Marktplatzabend
LOCATION:Marktplatz Markgröningen
DESCRIPTION:Weitere Informationen zum Marktplatzabend finden Sie hier. (https://markgro
 eningen-aktiv.de/veranstaltungen/marktplatzabende/)\nWir sind mit dem Weinw
 agen mit auf dem Marktplatz vertreten.\n
X-ALT-DESC;FMTTYPE=text/html:<p><a href="https://markgroeningen-aktiv.de/veranstaltungen/marktplatzabend
 e/" target="_blank" rel="noopener">Weitere Informationen zum Marktplatzaben
 d finden Sie hier.</a><br />Wir sind mit dem Weinwagen mit auf dem Marktpla
 tz vertreten.</p>
DTSTAMP:20260422T192533
DTSTART;TZID=Europe/Berlin:20250515T173000
DTEND;TZID=Europe/Berlin:20250515T210000
SEQUENCE:0
TRANSP:OPAQUE
END:VEVENT
END:VCALENDAR